Package: switchde Version: 1.32.0 Command: /home/biocbuild/bbs-3.20-bioc/R/bin/R CMD build --keep-empty-dirs --no-resave-data --md5 switchde StartedAt: 2025-01-30 19:24:56 -0500 (Thu, 30 Jan 2025) EndedAt: 2025-01-30 19:25:32 -0500 (Thu, 30 Jan 2025) EllapsedTime: 36.0 seconds RetCode: 0 Status: OK PackageFile: switchde_1.32.0.tar.gz PackageFileSize: 1007 KiB