Package: switchde Version: 1.32.0 Command: /home/biocbuild/R/R/bin/R CMD build --keep-empty-dirs --no-resave-data switchde StartedAt: 2025-01-31 03:05:43 -0000 (Fri, 31 Jan 2025) EndedAt: 2025-01-31 03:06:32 -0000 (Fri, 31 Jan 2025) EllapsedTime: 49.0 seconds RetCode: 0 Status: OK PackageFile: switchde_1.32.0.tar.gz PackageFileSize: 650.4 KiB