Package: synapsis Version: 1.12.0 Command: /Library/Frameworks/R.framework/Resources/bin/R CMD build --keep-empty-dirs --no-resave-data synapsis StartedAt: 2025-02-03 22:48:21 -0500 (Mon, 03 Feb 2025) EndedAt: 2025-02-03 22:49:22 -0500 (Mon, 03 Feb 2025) EllapsedTime: 61.0 seconds RetCode: 0 Status: OK PackageFile: synapsis_1.12.0.tar.gz PackageFileSize: 3.532 MiB