Package: synapsis Version: 1.12.0 Command: /home/biocbuild/bbs-3.20-bioc/R/bin/R CMD INSTALL synapsis StartedAt: 2025-02-03 15:39:15 -0500 (Mon, 03 Feb 2025) EndedAt: 2025-02-03 15:39:19 -0500 (Mon, 03 Feb 2025) EllapsedTime: 4.1 seconds RetCode: 0 Status: OK