Package: synapter Version: 2.30.0 Command: /Library/Frameworks/R.framework/Resources/bin/R CMD build --keep-empty-dirs --no-resave-data synapter StartedAt: 2025-02-04 09:30:16 -0500 (Tue, 04 Feb 2025) EndedAt: 2025-02-04 09:37:14 -0500 (Tue, 04 Feb 2025) EllapsedTime: 418.5 seconds RetCode: 0 Status: OK PackageFile: synapter_2.30.0.tar.gz PackageFileSize: 4.707 MiB