Package: synapter Version: 2.30.0 Command: /Library/Frameworks/R.framework/Resources/bin/R CMD INSTALL synapter StartedAt: 2025-02-03 17:24:46 -0500 (Mon, 03 Feb 2025) EndedAt: 2025-02-03 17:25:52 -0500 (Mon, 03 Feb 2025) EllapsedTime: 66.2 seconds RetCode: 0 Status: OK