Package: synapter Version: 2.30.0 Command: rm -rf synapter.buildbin-libdir && mkdir synapter.buildbin-libdir && /Users/biocbuild/BBS/utils/build-universal.sh synapter_2.30.0.tar.gz /Library/Frameworks/R.framework/Resources/bin/R synapter.buildbin-libdir StartedAt: 2025-02-11 14:41:04 -0500 (Tue, 11 Feb 2025) EndedAt: 2025-02-11 14:43:33 -0500 (Tue, 11 Feb 2025) EllapsedTime: 148.5 seconds RetCode: 0 Status: OK PackageFile: synapter_2.30.0.tgz PackageFileSize: 5.414 MiB