Package: synapter Version: 2.30.0 Command: /Library/Frameworks/R.framework/Resources/bin/R CMD build --keep-empty-dirs --no-resave-data synapter StartedAt: 2025-02-03 22:48:27 -0500 (Mon, 03 Feb 2025) EndedAt: 2025-02-03 23:04:11 -0500 (Mon, 03 Feb 2025) EllapsedTime: 944.0 seconds RetCode: 0 Status: OK PackageFile: synapter_2.30.0.tar.gz PackageFileSize: 4.635 MiB