Package: synapter Version: 2.30.0 Command: /Library/Frameworks/R.framework/Resources/bin/R CMD check --install=check:synapter.install-out.txt --library=/Library/Frameworks/R.framework/Resources/library --no-vignettes --timings synapter_2.30.0.tar.gz StartedAt: 2025-02-04 11:04:22 -0500 (Tue, 04 Feb 2025) EndedAt: 2025-02-04 11:16:14 -0500 (Tue, 04 Feb 2025) EllapsedTime: 711.9 seconds RetCode: 0 Status: OK CheckDir: synapter.Rcheck Warnings: 0