Package: synapter Version: 2.30.0 Command: rm -rf synapter.buildbin-libdir && mkdir synapter.buildbin-libdir && F:\biocbuild\bbs-3.20-bioc\R\bin\R.exe CMD INSTALL --build --library=synapter.buildbin-libdir synapter_2.30.0.tar.gz StartedAt: 2025-02-04 09:38:47 -0500 (Tue, 04 Feb 2025) EndedAt: 2025-02-04 09:41:04 -0500 (Tue, 04 Feb 2025) EllapsedTime: 136.5 seconds RetCode: 0 Status: OK PackageFile: synapter_2.30.0.zip PackageFileSize: 3.623 MiB