Package: synergyfinder Version: 3.14.0 Command: /Library/Frameworks/R.framework/Resources/bin/R CMD check --install=check:synergyfinder.install-out.txt --library=/Library/Frameworks/R.framework/Resources/library --no-vignettes --timings synergyfinder_3.14.0.tar.gz StartedAt: 2025-02-04 11:04:30 -0500 (Tue, 04 Feb 2025) EndedAt: 2025-02-04 11:08:13 -0500 (Tue, 04 Feb 2025) EllapsedTime: 223.5 seconds RetCode: 0 Status: WARNINGS CheckDir: synergyfinder.Rcheck Warnings: 1