Package: synergyfinder Version: 3.14.0 Command: /Library/Frameworks/R.framework/Resources/bin/R CMD INSTALL synergyfinder StartedAt: 2025-02-03 16:23:06 -0500 (Mon, 03 Feb 2025) EndedAt: 2025-02-03 16:23:21 -0500 (Mon, 03 Feb 2025) EllapsedTime: 15.2 seconds RetCode: 0 Status: OK