Package: synergyfinder Version: 3.14.0 Command: chmod a+r synergyfinder -R && F:\biocbuild\bbs-3.20-bioc\R\bin\R.exe CMD build --keep-empty-dirs --no-resave-data synergyfinder StartedAt: 2025-01-30 22:13:39 -0500 (Thu, 30 Jan 2025) EndedAt: 2025-01-30 22:15:35 -0500 (Thu, 30 Jan 2025) EllapsedTime: 116.0 seconds RetCode: 0 Status: OK PackageFile: synergyfinder_3.14.0.tar.gz PackageFileSize: 6.044 MiB