Package: systemPipeR Version: 2.12.0 Command: /Library/Frameworks/R.framework/Resources/bin/R CMD build --keep-empty-dirs --no-resave-data systemPipeR StartedAt: 2025-02-10 22:50:25 -0500 (Mon, 10 Feb 2025) EndedAt: 2025-02-10 22:53:34 -0500 (Mon, 10 Feb 2025) EllapsedTime: 188.6 seconds RetCode: 0 Status: OK PackageFile: systemPipeR_2.12.0.tar.gz PackageFileSize: 6.497 MiB