Package: systemPipeR Version: 2.12.0 Command: /home/biocbuild/bbs-3.20-bioc/R/bin/R CMD build --keep-empty-dirs --no-resave-data --md5 systemPipeR StartedAt: 2025-02-10 19:27:44 -0500 (Mon, 10 Feb 2025) EndedAt: 2025-02-10 19:28:55 -0500 (Mon, 10 Feb 2025) EllapsedTime: 71.1 seconds RetCode: 0 Status: OK PackageFile: systemPipeR_2.12.0.tar.gz PackageFileSize: 6.517 MiB