Package: systemPipeR Version: 2.12.0 Command: /home/biocbuild/bbs-3.20-bioc/R/bin/R CMD check --install=check:systemPipeR.install-out.txt --library=/home/biocbuild/bbs-3.20-bioc/R/site-library --timings systemPipeR_2.12.0.tar.gz StartedAt: 2025-02-11 02:56:07 -0500 (Tue, 11 Feb 2025) EndedAt: 2025-02-11 03:02:02 -0500 (Tue, 11 Feb 2025) EllapsedTime: 355.4 seconds RetCode: 0 Status: OK CheckDir: systemPipeR.Rcheck Warnings: 0