Package: systemPipeR Version: 2.12.0 Command: /home/biocbuild/R/R/bin/R CMD check --install=check:systemPipeR.install-out.txt --library=/home/biocbuild/R/R/site-library --no-vignettes --timings systemPipeR_2.12.0.tar.gz StartedAt: 2025-02-11 10:58:29 -0000 (Tue, 11 Feb 2025) EndedAt: 2025-02-11 11:05:34 -0000 (Tue, 11 Feb 2025) EllapsedTime: 424.6 seconds RetCode: 0 Status: OK CheckDir: systemPipeR.Rcheck Warnings: 0