Package: systemPipeTools Version: 1.14.0 Command: /Library/Frameworks/R.framework/Resources/bin/R CMD check --install=check:systemPipeTools.install-out.txt --library=/Library/Frameworks/R.framework/Resources/library --no-vignettes --timings systemPipeTools_1.14.0.tar.gz StartedAt: 2025-02-05 12:25:45 -0500 (Wed, 05 Feb 2025) EndedAt: 2025-02-05 12:30:54 -0500 (Wed, 05 Feb 2025) EllapsedTime: 309.4 seconds RetCode: 0 Status: WARNINGS CheckDir: systemPipeTools.Rcheck Warnings: 1