Package: systemPipeTools Version: 1.14.0 Command: /Library/Frameworks/R.framework/Resources/bin/R CMD build --keep-empty-dirs --no-resave-data systemPipeTools StartedAt: 2025-02-03 22:49:41 -0500 (Mon, 03 Feb 2025) EndedAt: 2025-02-03 22:52:04 -0500 (Mon, 03 Feb 2025) EllapsedTime: 143.0 seconds RetCode: 0 Status: OK PackageFile: systemPipeTools_1.14.0.tar.gz PackageFileSize: 999.4 KiB