Package: systemPipeTools Version: 1.14.0 Command: /Library/Frameworks/R.framework/Resources/bin/R CMD check --install=check:systemPipeTools.install-out.txt --library=/Library/Frameworks/R.framework/Resources/library --no-vignettes --timings systemPipeTools_1.14.0.tar.gz StartedAt: 2025-02-04 11:06:54 -0500 (Tue, 04 Feb 2025) EndedAt: 2025-02-04 11:15:58 -0500 (Tue, 04 Feb 2025) EllapsedTime: 544.5 seconds RetCode: 0 Status: WARNINGS CheckDir: systemPipeTools.Rcheck Warnings: 1