Package: systemPipeTools Version: 1.14.0 Command: /Library/Frameworks/R.framework/Resources/bin/R CMD INSTALL systemPipeTools StartedAt: 2025-02-03 16:39:54 -0500 (Mon, 03 Feb 2025) EndedAt: 2025-02-03 16:40:48 -0500 (Mon, 03 Feb 2025) EllapsedTime: 54.2 seconds RetCode: 0 Status: OK