Package: systemPipeTools Version: 1.14.0 Command: /home/biocbuild/bbs-3.20-bioc/R/bin/R CMD build --keep-empty-dirs --no-resave-data --md5 systemPipeTools StartedAt: 2025-02-03 19:35:25 -0500 (Mon, 03 Feb 2025) EndedAt: 2025-02-03 19:36:21 -0500 (Mon, 03 Feb 2025) EllapsedTime: 56.1 seconds RetCode: 0 Status: OK PackageFile: systemPipeTools_1.14.0.tar.gz PackageFileSize: 991.8 KiB