Package: systemPipeTools Version: 1.14.0 Command: /home/biocbuild/bbs-3.20-bioc/R/bin/R CMD check --install=check:systemPipeTools.install-out.txt --library=/home/biocbuild/bbs-3.20-bioc/R/site-library --timings systemPipeTools_1.14.0.tar.gz StartedAt: 2025-02-04 03:05:46 -0500 (Tue, 04 Feb 2025) EndedAt: 2025-02-04 03:10:12 -0500 (Tue, 04 Feb 2025) EllapsedTime: 266.4 seconds RetCode: 0 Status: WARNINGS CheckDir: systemPipeTools.Rcheck Warnings: 1