Package: systemPipeTools Version: 1.14.0 Command: chmod a+r systemPipeTools -R && F:\biocbuild\bbs-3.20-bioc\R\bin\R.exe CMD build --keep-empty-dirs --no-resave-data systemPipeTools StartedAt: 2025-02-10 22:26:27 -0500 (Mon, 10 Feb 2025) EndedAt: 2025-02-10 22:28:13 -0500 (Mon, 10 Feb 2025) EllapsedTime: 105.9 seconds RetCode: 0 Status: OK PackageFile: systemPipeTools_1.14.0.tar.gz PackageFileSize: 548.5 KiB