Package: systemPipeTools Version: 1.14.0 Command: F:\biocbuild\bbs-3.20-bioc\R\bin\R.exe CMD check --no-multiarch --install=check:systemPipeTools.install-out.txt --library=F:\biocbuild\bbs-3.20-bioc\R\library --no-vignettes --timings systemPipeTools_1.14.0.tar.gz StartedAt: 2025-02-11 06:52:17 -0500 (Tue, 11 Feb 2025) EndedAt: 2025-02-11 06:57:33 -0500 (Tue, 11 Feb 2025) EllapsedTime: 316.2 seconds RetCode: 0 Status: WARNINGS CheckDir: systemPipeTools.Rcheck Warnings: 1