Package: systemPipeTools Version: 1.14.0 Command: /home/biocbuild/R/R/bin/R CMD build --keep-empty-dirs --no-resave-data systemPipeTools StartedAt: 2025-02-04 03:27:03 -0000 (Tue, 04 Feb 2025) EndedAt: 2025-02-04 03:28:39 -0000 (Tue, 04 Feb 2025) EllapsedTime: 96.1 seconds RetCode: 0 Status: OK PackageFile: systemPipeTools_1.14.0.tar.gz PackageFileSize: 719.4 KiB