Package: tRNA Version: 1.24.0 Command: /Library/Frameworks/R.framework/Resources/bin/R CMD build --keep-empty-dirs --no-resave-data tRNA StartedAt: 2025-02-04 10:05:57 -0500 (Tue, 04 Feb 2025) EndedAt: 2025-02-04 10:08:33 -0500 (Tue, 04 Feb 2025) EllapsedTime: 156.0 seconds RetCode: 0 Status: OK PackageFile: tRNA_1.24.0.tar.gz PackageFileSize: 1.295 MiB