Package: tRNA Version: 1.24.0 Command: /Library/Frameworks/R.framework/Resources/bin/R CMD build --keep-empty-dirs --no-resave-data tRNA StartedAt: 2025-02-03 23:02:20 -0500 (Mon, 03 Feb 2025) EndedAt: 2025-02-03 23:09:48 -0500 (Mon, 03 Feb 2025) EllapsedTime: 447.3 seconds RetCode: 0 Status: OK PackageFile: tRNA_1.24.0.tar.gz PackageFileSize: 1.302 MiB