Package: tRNA Version: 1.24.0 Command: /home/biocbuild/R/R/bin/R CMD INSTALL tRNA StartedAt: 2025-02-03 20:34:44 -0000 (Mon, 03 Feb 2025) EndedAt: 2025-02-03 20:35:04 -0000 (Mon, 03 Feb 2025) EllapsedTime: 20.3 seconds RetCode: 0 Status: OK