Package: tRNAdbImport Version: 1.24.0 Command: /Library/Frameworks/R.framework/Resources/bin/R CMD INSTALL tRNAdbImport StartedAt: 2025-01-30 15:35:51 -0500 (Thu, 30 Jan 2025) EndedAt: 2025-01-30 15:36:09 -0500 (Thu, 30 Jan 2025) EllapsedTime: 17.3 seconds RetCode: 0 Status: OK