Package: tRNAdbImport Version: 1.24.0 Command: /home/biocbuild/bbs-3.20-bioc/R/bin/R CMD build --keep-empty-dirs --no-resave-data --md5 tRNAdbImport StartedAt: 2025-02-03 19:42:44 -0500 (Mon, 03 Feb 2025) EndedAt: 2025-02-03 19:43:11 -0500 (Mon, 03 Feb 2025) EllapsedTime: 27.0 seconds RetCode: 0 Status: OK PackageFile: tRNAdbImport_1.24.0.tar.gz PackageFileSize: 323 KiB