Package: tRNAdbImport Version: 1.24.0 Command: chmod a+r tRNAdbImport -R && F:\biocbuild\bbs-3.20-bioc\R\bin\R.exe CMD build --keep-empty-dirs --no-resave-data tRNAdbImport StartedAt: 2025-01-30 22:24:34 -0500 (Thu, 30 Jan 2025) EndedAt: 2025-01-30 22:25:19 -0500 (Thu, 30 Jan 2025) EllapsedTime: 45.5 seconds RetCode: 0 Status: OK PackageFile: tRNAdbImport_1.24.0.tar.gz PackageFileSize: 322.1 KiB