Package: tRNAdbImport Version: 1.24.0 Command: F:\biocbuild\bbs-3.20-bioc\R\bin\R.exe CMD INSTALL tRNAdbImport StartedAt: 2025-01-30 15:48:37 -0500 (Thu, 30 Jan 2025) EndedAt: 2025-01-30 15:49:03 -0500 (Thu, 30 Jan 2025) EllapsedTime: 25.9 seconds RetCode: 0 Status: OK