Package: tRNAdbImport Version: 1.24.0 Command: /home/biocbuild/R/R/bin/R CMD build --keep-empty-dirs --no-resave-data tRNAdbImport StartedAt: 2025-01-31 03:18:33 -0000 (Fri, 31 Jan 2025) EndedAt: 2025-01-31 03:19:12 -0000 (Fri, 31 Jan 2025) EllapsedTime: 39.1 seconds RetCode: 0 Status: OK PackageFile: tRNAdbImport_1.24.0.tar.gz PackageFileSize: 393.3 KiB