Package: target Version: 1.20.0 Command: /Library/Frameworks/R.framework/Resources/bin/R CMD build --keep-empty-dirs --no-resave-data target StartedAt: 2025-02-10 22:51:13 -0500 (Mon, 10 Feb 2025) EndedAt: 2025-02-10 22:52:43 -0500 (Mon, 10 Feb 2025) EllapsedTime: 90.5 seconds RetCode: 0 Status: OK PackageFile: target_1.20.0.tar.gz PackageFileSize: 3.08 MiB