Package: target Version: 1.20.0 Command: rm -rf target.buildbin-libdir && mkdir target.buildbin-libdir && F:\biocbuild\bbs-3.20-bioc\R\bin\R.exe CMD INSTALL --build --library=target.buildbin-libdir target_1.20.0.tar.gz StartedAt: 2025-02-04 09:39:19 -0500 (Tue, 04 Feb 2025) EndedAt: 2025-02-04 09:39:40 -0500 (Tue, 04 Feb 2025) EllapsedTime: 21.8 seconds RetCode: 0 Status: OK PackageFile: target_1.20.0.zip PackageFileSize: 3.128 MiB