Package: target Version: 1.20.0 Command: F:\biocbuild\bbs-3.20-bioc\R\bin\R.exe CMD check --no-multiarch --install=check:target.install-out.txt --library=F:\biocbuild\bbs-3.20-bioc\R\library --no-vignettes --timings target_1.20.0.tar.gz StartedAt: 2025-02-04 06:57:11 -0500 (Tue, 04 Feb 2025) EndedAt: 2025-02-04 06:58:52 -0500 (Tue, 04 Feb 2025) EllapsedTime: 101.0 seconds RetCode: 0 Status: OK CheckDir: target.Rcheck Warnings: 0