Package: tenXplore Version: 1.28.0 Command: /Library/Frameworks/R.framework/Resources/bin/R CMD INSTALL tenXplore StartedAt: 2025-02-10 16:59:29 -0500 (Mon, 10 Feb 2025) EndedAt: 2025-02-10 17:00:08 -0500 (Mon, 10 Feb 2025) EllapsedTime: 38.9 seconds RetCode: 0 Status: OK