Package: tenXplore Version: 1.28.0 Command: rm -rf tenXplore.buildbin-libdir && mkdir tenXplore.buildbin-libdir && /Users/biocbuild/BBS/utils/build-universal.sh tenXplore_1.28.0.tar.gz /Library/Frameworks/R.framework/Resources/bin/R tenXplore.buildbin-libdir StartedAt: 2025-01-31 13:50:31 -0500 (Fri, 31 Jan 2025) EndedAt: 2025-01-31 13:51:40 -0500 (Fri, 31 Jan 2025) EllapsedTime: 68.5 seconds RetCode: 0 Status: OK PackageFile: tenXplore_1.28.0.tgz PackageFileSize: 2.181 MiB