Package: tenXplore Version: 1.28.0 Command: /Library/Frameworks/R.framework/Resources/bin/R CMD build --keep-empty-dirs --no-resave-data tenXplore StartedAt: 2025-02-03 22:52:33 -0500 (Mon, 03 Feb 2025) EndedAt: 2025-02-03 22:54:13 -0500 (Mon, 03 Feb 2025) EllapsedTime: 99.9 seconds RetCode: 0 Status: OK PackageFile: tenXplore_1.28.0.tar.gz PackageFileSize: 2.433 MiB