Package: tenXplore Version: 1.28.0 Command: /Library/Frameworks/R.framework/Resources/bin/R CMD check --install=check:tenXplore.install-out.txt --library=/Library/Frameworks/R.framework/Resources/library --no-vignettes --timings tenXplore_1.28.0.tar.gz StartedAt: 2025-02-04 11:12:25 -0500 (Tue, 04 Feb 2025) EndedAt: 2025-02-04 11:20:14 -0500 (Tue, 04 Feb 2025) EllapsedTime: 468.7 seconds RetCode: 0 Status: OK CheckDir: tenXplore.Rcheck Warnings: 0