Package: tenXplore Version: 1.28.0 Command: /Library/Frameworks/R.framework/Resources/bin/R CMD INSTALL tenXplore StartedAt: 2025-02-03 16:07:57 -0500 (Mon, 03 Feb 2025) EndedAt: 2025-02-03 16:09:02 -0500 (Mon, 03 Feb 2025) EllapsedTime: 65.2 seconds RetCode: 0 Status: OK