Package: tenXplore Version: 1.28.0 Command: /home/biocbuild/bbs-3.20-bioc/R/bin/R CMD build --keep-empty-dirs --no-resave-data --md5 tenXplore StartedAt: 2025-02-03 19:36:53 -0500 (Mon, 03 Feb 2025) EndedAt: 2025-02-03 19:37:37 -0500 (Mon, 03 Feb 2025) EllapsedTime: 44.3 seconds RetCode: 0 Status: OK PackageFile: tenXplore_1.28.0.tar.gz PackageFileSize: 2.434 MiB