Package: tenXplore Version: 1.28.0 Command: /home/biocbuild/bbs-3.20-bioc/R/bin/R CMD check --install=check:tenXplore.install-out.txt --library=/home/biocbuild/bbs-3.20-bioc/R/site-library --timings tenXplore_1.28.0.tar.gz StartedAt: 2025-02-11 02:59:23 -0500 (Tue, 11 Feb 2025) EndedAt: 2025-02-11 03:03:25 -0500 (Tue, 11 Feb 2025) EllapsedTime: 242.2 seconds RetCode: 0 Status: OK CheckDir: tenXplore.Rcheck Warnings: 0