Package: tenXplore Version: 1.28.0 Command: rm -rf tenXplore.buildbin-libdir && mkdir tenXplore.buildbin-libdir && F:\biocbuild\bbs-3.20-bioc\R\bin\R.exe CMD INSTALL --build --library=tenXplore.buildbin-libdir tenXplore_1.28.0.tar.gz StartedAt: 2025-02-11 09:38:18 -0500 (Tue, 11 Feb 2025) EndedAt: 2025-02-11 09:38:56 -0500 (Tue, 11 Feb 2025) EllapsedTime: 38.0 seconds RetCode: 0 Status: OK PackageFile: tenXplore_1.28.0.zip PackageFileSize: 2.185 MiB