Package: tenXplore Version: 1.28.0 Command: chmod a+r tenXplore -R && F:\biocbuild\bbs-3.20-bioc\R\bin\R.exe CMD build --keep-empty-dirs --no-resave-data tenXplore StartedAt: 2025-02-03 22:34:15 -0500 (Mon, 03 Feb 2025) EndedAt: 2025-02-03 22:35:18 -0500 (Mon, 03 Feb 2025) EllapsedTime: 62.7 seconds RetCode: 0 Status: OK PackageFile: tenXplore_1.28.0.tar.gz PackageFileSize: 2.433 MiB