Package: tenXplore Version: 1.28.0 Command: /home/biocbuild/R/R/bin/R CMD INSTALL tenXplore StartedAt: 2025-02-03 20:58:34 -0000 (Mon, 03 Feb 2025) EndedAt: 2025-02-03 20:59:14 -0000 (Mon, 03 Feb 2025) EllapsedTime: 39.6 seconds RetCode: 0 Status: OK