Package: tidySingleCellExperiment Version: 1.16.0 Command: rm -rf tidySingleCellExperiment.buildbin-libdir && mkdir tidySingleCellExperiment.buildbin-libdir && /Users/biocbuild/BBS/utils/build-universal.sh tidySingleCellExperiment_1.16.0.tar.gz /Library/Frameworks/R.framework/Resources/bin/R tidySingleCellExperiment.buildbin-libdir StartedAt: 2025-02-12 17:20:38 -0500 (Wed, 12 Feb 2025) EndedAt: 2025-02-12 17:21:14 -0500 (Wed, 12 Feb 2025) EllapsedTime: 36.6 seconds RetCode: 0 Status: OK PackageFile: tidySingleCellExperiment_1.16.0.tgz PackageFileSize: 2.072 MiB