Package: tidySingleCellExperiment Version: 1.16.0 Command: /Library/Frameworks/R.framework/Resources/bin/R CMD INSTALL tidySingleCellExperiment StartedAt: 2025-02-03 16:46:09 -0500 (Mon, 03 Feb 2025) EndedAt: 2025-02-03 16:46:42 -0500 (Mon, 03 Feb 2025) EllapsedTime: 32.7 seconds RetCode: 0 Status: OK