Package: tidySingleCellExperiment Version: 1.16.0 Command: rm -rf tidySingleCellExperiment.buildbin-libdir && mkdir tidySingleCellExperiment.buildbin-libdir && /Users/biocbuild/BBS/utils/build-universal.sh tidySingleCellExperiment_1.16.0.tar.gz /Library/Frameworks/R.framework/Resources/bin/R tidySingleCellExperiment.buildbin-libdir StartedAt: 2025-01-31 13:51:04 -0500 (Fri, 31 Jan 2025) EndedAt: 2025-01-31 13:52:08 -0500 (Fri, 31 Jan 2025) EllapsedTime: 64.5 seconds RetCode: 0 Status: OK PackageFile: tidySingleCellExperiment_1.16.0.tgz PackageFileSize: 2.092 MiB